BEGIN:VCALENDAR
VERSION:2.0
PRODID:-//wp-events-plugin.com//7.0.5//EN
TZID:Europe/Bratislava
X-WR-TIMEZONE:Europe/Bratislava
BEGIN:VEVENT
UID:116@nocka.sk
DTSTART;TZID=Europe/Bratislava;VALUE=DATE:20260616
DTEND;TZID=Europe/Bratislava;VALUE=DATE:20260620
DTSTAMP:20260421T134158Z
URL:https://www.nocka.sk/registracia/podujatia/workshop-tema-v-prednese-20
 2606/
SUMMARY:Workshop Téma v prednese (1. – 3. kategória)
DESCRIPTION:Hľadanie a uchopenie témy v umeleckom prednese poézie a pró
 zy u detí a mládeže.
ATTACH;FMTTYPE=image/jpeg:https://www.nocka.sk/registracia/wp-content/uplo
 ads/2026/04/workshop-tema-v-prednese-202606.jpg
LOCATION:Mestské kultúrne stredisko\, Dolný Kubín\, Námestie slobody 1
 269/3\, Dolný Kubín - Veľký Bysterec\, 026 01\, Slovensko
X-APPLE-STRUCTURED-LOCATION;VALUE=URI;X-ADDRESS=Námestie slobody 1269/3\, 
 Dolný Kubín - Veľký Bysterec\, 026 01\, Slovensko;X-APPLE-RADIUS=100;X
 -TITLE=Mestské kultúrne stredisko\, Dolný Kubín:geo:0,0
END:VEVENT
BEGIN:VTIMEZONE
TZID:Europe/Bratislava
X-LIC-LOCATION:Europe/Bratislava
BEGIN:DAYLIGHT
DTSTART:20260329T030000
TZOFFSETFROM:+0100
TZOFFSETTO:+0200
TZNAME:CEST
END:DAYLIGHT
END:VTIMEZONE
END:VCALENDAR