BEGIN:VCALENDAR
VERSION:2.0
PRODID:-//wp-events-plugin.com//7.0.5//EN
TZID:Europe/Bratislava
X-WR-TIMEZONE:Europe/Bratislava
BEGIN:VEVENT
UID:111@nocka.sk
DTSTART;TZID=Europe/Bratislava:20251111T140000
DTEND;TZID=Europe/Bratislava:20251216T160000
DTSTAMP:20251020T122933Z
URL:https://www.nocka.sk/registracia/podujatia/slovne-spojenie-6/
SUMMARY:SLOVNÉ SPOJENIE VI.
DESCRIPTION:Spoločné objavovanie umeleckého prednesu a jeho zákutí.
ATTACH;FMTTYPE=image/jpeg:https://www.nocka.sk/registracia/wp-content/uplo
 ads/2025/10/Slovne-spojenie-6-web-titulka.jpg
LOCATION:ONLINE cez ZOOM\, online\, ZOOM\, Slovensko
X-APPLE-STRUCTURED-LOCATION;VALUE=URI;X-ADDRESS=online\, ZOOM\, Slovensko;X
 -APPLE-RADIUS=100;X-TITLE=ONLINE cez ZOOM:geo:0,0
END:VEVENT
BEGIN:VTIMEZONE
TZID:Europe/Bratislava
X-LIC-LOCATION:Europe/Bratislava
BEGIN:STANDARD
DTSTART:20251026T020000
TZOFFSETFROM:+0200
TZOFFSETTO:+0100
TZNAME:CET
END:STANDARD
END:VTIMEZONE
END:VCALENDAR